BEGIN:VCALENDAR
VERSION:2.0
PRODID:-//CM Brasília - ECPv6.15.16.1//NONSGML v1.0//EN
CALSCALE:GREGORIAN
METHOD:PUBLISH
X-WR-CALNAME:CM Brasília
X-ORIGINAL-URL:https://ssvpcmb.org.br
X-WR-CALDESC:Eventos para CM Brasília
REFRESH-INTERVAL;VALUE=DURATION:PT1H
X-Robots-Tag:noindex
X-PUBLISHED-TTL:PT1H
BEGIN:VTIMEZONE
TZID:America/Sao_Paulo
BEGIN:STANDARD
TZOFFSETFROM:-0300
TZOFFSETTO:-0300
TZNAME:-03
DTSTART:20250101T000000
END:STANDARD
END:VTIMEZONE
BEGIN:VEVENT
DTSTART;VALUE=DATE:20260801
DTEND;VALUE=DATE:20260802
DTSTAMP:20260420T235131
CREATED:20260213T171737Z
LAST-MODIFIED:20260213T171737Z
UID:6727-1785542400-1785628799@ssvpcmb.org.br
SUMMARY:Encontro de Secretárias administrativas dos CM’s
DESCRIPTION:Encontro de Secretárias administrativas dos CM’s \nSede do CNB
URL:https://ssvpcmb.org.br/event/encontro-de-secretarias-administrativas-dos-cms/
CATEGORIES:CNB
END:VEVENT
BEGIN:VEVENT
DTSTART;VALUE=DATE:20260801
DTEND;VALUE=DATE:20260802
DTSTAMP:20260420T235131
CREATED:20260213T171809Z
LAST-MODIFIED:20260213T171809Z
UID:6729-1785542400-1785628799@ssvpcmb.org.br
SUMMARY:Encontro das Obras do segmento fúnebre
DESCRIPTION:Encontro das Obras do segmento fúnebre \nSede do CNB
URL:https://ssvpcmb.org.br/event/encontro-das-obras-do-segmento-funebre/
CATEGORIES:CNB
END:VEVENT
BEGIN:VEVENT
DTSTART;VALUE=DATE:20260814
DTEND;VALUE=DATE:20260815
DTSTAMP:20260420T235131
CREATED:20260213T171920Z
LAST-MODIFIED:20260213T171920Z
UID:6733-1786665600-1786751999@ssvpcmb.org.br
SUMMARY:Dia Internacional das Consócias
DESCRIPTION:Dia Internacional das Consócias
URL:https://ssvpcmb.org.br/event/dia-internacional-das-consocias-2/
END:VEVENT
BEGIN:VEVENT
DTSTART;VALUE=DATE:20260818
DTEND;VALUE=DATE:20260820
DTSTAMP:20260420T235131
CREATED:20260213T172002Z
LAST-MODIFIED:20260213T172002Z
UID:6735-1787011200-1787183999@ssvpcmb.org.br
SUMMARY:Adoração ao Santíssimo Sacramento - Conselho Central de Ceilândia
DESCRIPTION:Adoração ao Santíssimo Sacramento – Conselho Central de Ceilândia \nDas 12h às 14hs
URL:https://ssvpcmb.org.br/event/adoracao-ao-santissimo-sacramento-conselho-central-de-ceilandia/
LOCATION:Santuário SS Sacramento\, SGAS II SGAS 606 - Asa Sul\, Brasília\, Distrito Federal\, 70200-660\, Brazil
CATEGORIES:Adoração
END:VEVENT
BEGIN:VEVENT
DTSTART;VALUE=DATE:20260821
DTEND;VALUE=DATE:20260824
DTSTAMP:20260420T235131
CREATED:20260213T172116Z
LAST-MODIFIED:20260213T172116Z
UID:6739-1787270400-1787529599@ssvpcmb.org.br
SUMMARY:Encontro Nacional dos Coordendores de CCA’s
DESCRIPTION:Local: a definir
URL:https://ssvpcmb.org.br/event/encontro-nacional-dos-coordendores-de-ccas/
CATEGORIES:CNB
END:VEVENT
BEGIN:VEVENT
DTSTART;TZID=America/Sao_Paulo:20260821T180000
DTEND;TZID=America/Sao_Paulo:20260823T170000
DTSTAMP:20260420T235131
CREATED:20260213T172043Z
LAST-MODIFIED:20260213T172043Z
UID:6737-1787335200-1787504400@ssvpcmb.org.br
SUMMARY:ENJUVI
DESCRIPTION:Local: a definir
URL:https://ssvpcmb.org.br/event/enjuvi/
CATEGORIES:CMB
END:VEVENT
END:VCALENDAR