BEGIN:VCALENDAR
VERSION:2.0
PRODID:-//CM Brasília - ECPv6.15.16.1//NONSGML v1.0//EN
CALSCALE:GREGORIAN
METHOD:PUBLISH
X-ORIGINAL-URL:https://ssvpcmb.org.br
X-WR-CALDESC:Eventos para CM Brasília
REFRESH-INTERVAL;VALUE=DURATION:PT1H
X-Robots-Tag:noindex
X-PUBLISHED-TTL:PT1H
BEGIN:VTIMEZONE
TZID:America/Sao_Paulo
BEGIN:STANDARD
TZOFFSETFROM:-0300
TZOFFSETTO:-0300
TZNAME:-03
DTSTART:20250101T000000
END:STANDARD
END:VTIMEZONE
BEGIN:VEVENT
DTSTART;VALUE=DATE:20260704
DTEND;VALUE=DATE:20260705
DTSTAMP:20260420T232514
CREATED:20260213T171454Z
LAST-MODIFIED:20260213T171557Z
UID:6718-1783123200-1783209599@ssvpcmb.org.br
SUMMARY:Encontro dos Hospitais
DESCRIPTION:Encontro dos Hospitais  \nSede do CNB
URL:https://ssvpcmb.org.br/event/encontro-dos-hospitais/
LOCATION:CM Brasilia\, Sociedade de São Vicente de Paulo\, Conjunto E - Módulo 02\, Via W5 Norte\, Brasília\, Distrito Federal\, 70790-130\, Brazil
CATEGORIES:CNB
END:VEVENT
BEGIN:VEVENT
DTSTART;VALUE=DATE:20260704
DTEND;VALUE=DATE:20260705
DTSTAMP:20260420T232514
CREATED:20260213T171536Z
LAST-MODIFIED:20260213T171536Z
UID:6720-1783123200-1783209599@ssvpcmb.org.br
SUMMARY:Reunião do Conselho Nacional do Brasil
DESCRIPTION:Sede do CNB
URL:https://ssvpcmb.org.br/event/reuniao-do-conselho-nacional-do-brasil-8/
CATEGORIES:CNB
END:VEVENT
BEGIN:VEVENT
DTSTART;VALUE=DATE:20260704
DTEND;VALUE=DATE:20260705
DTSTAMP:20260420T232514
CREATED:20260213T171620Z
LAST-MODIFIED:20260213T171620Z
UID:6723-1783123200-1783209599@ssvpcmb.org.br
SUMMARY:Dia litúrgico de São Pedro Jorge Frassatti
DESCRIPTION:
URL:https://ssvpcmb.org.br/event/dia-liturgico-de-sao-pedro-jorge-frassatti/
CATEGORIES:Litúrgico
END:VEVENT
BEGIN:VEVENT
DTSTART;TZID=America/Sao_Paulo:20260711T073000
DTEND;TZID=America/Sao_Paulo:20260711T120000
DTSTAMP:20260420T232514
CREATED:20260311T201305Z
LAST-MODIFIED:20260311T201305Z
UID:6923-1783755000-1783771200@ssvpcmb.org.br
SUMMARY:Reunião do Conselho Metropolitano de Brasília
DESCRIPTION:Sede do CM Brasília
URL:https://ssvpcmb.org.br/event/reuniao-do-conselho-metropolitano-de-brasilia-4/
END:VEVENT
BEGIN:VEVENT
DTSTART;VALUE=DATE:20260718
DTEND;VALUE=DATE:20260720
DTSTAMP:20260420T232514
CREATED:20260213T171701Z
LAST-MODIFIED:20260213T171701Z
UID:6725-1784332800-1784505599@ssvpcmb.org.br
SUMMARY:Adoração ao Santíssimo Sacramento - Conselho Central Divino Espírito Santo
DESCRIPTION:Adoração ao Santíssimo Sacramento – Conselho Central Divino Espírito Santo
URL:https://ssvpcmb.org.br/event/adoracao-ao-santissimo-sacramento-conselho-central-divino-espirito-santo/
LOCATION:Santuário SS Sacramento\, SGAS II SGAS 606 - Asa Sul\, Brasília\, Distrito Federal\, 70200-660\, Brazil
CATEGORIES:Adoração
END:VEVENT
END:VCALENDAR