BEGIN:VCALENDAR
VERSION:2.0
PRODID:-//CM Brasília - ECPv6.15.16.1//NONSGML v1.0//EN
CALSCALE:GREGORIAN
METHOD:PUBLISH
X-WR-CALNAME:CM Brasília
X-ORIGINAL-URL:https://ssvpcmb.org.br
X-WR-CALDESC:Eventos para CM Brasília
REFRESH-INTERVAL;VALUE=DURATION:PT1H
X-Robots-Tag:noindex
X-PUBLISHED-TTL:PT1H
BEGIN:VTIMEZONE
TZID:America/Sao_Paulo
BEGIN:STANDARD
TZOFFSETFROM:-0300
TZOFFSETTO:-0300
TZNAME:-03
DTSTART:20250101T000000
END:STANDARD
END:VTIMEZONE
BEGIN:VEVENT
DTSTART;VALUE=DATE:20260502
DTEND;VALUE=DATE:20260503
DTSTAMP:20260420T223728
CREATED:20260213T170941Z
LAST-MODIFIED:20260213T170941Z
UID:6702-1777680000-1777766399@ssvpcmb.org.br
SUMMARY:Reunião Região V
DESCRIPTION:Reunião Região V  \nLocal: a definir
URL:https://ssvpcmb.org.br/event/reuniao-regiao-v/
CATEGORIES:CNB
END:VEVENT
BEGIN:VEVENT
DTSTART;TZID=America/Sao_Paulo:20260509T073000
DTEND;TZID=America/Sao_Paulo:20260509T120000
DTSTAMP:20260420T223728
CREATED:20260311T200954Z
LAST-MODIFIED:20260311T200954Z
UID:6921-1778311800-1778328000@ssvpcmb.org.br
SUMMARY:Reunião do Conselho Metropolitano de Brasília
DESCRIPTION:(Participam as coordenações dos CC’s) \nLocal: Sede do CM Brasília
URL:https://ssvpcmb.org.br/event/reuniao-do-conselho-metropolitano-de-brasilia-9/
LOCATION:CM Brasilia\, Sociedade de São Vicente de Paulo\, Conjunto E - Módulo 02\, Via W5 Norte\, Brasília\, Distrito Federal\, 70790-130\, Brazil
END:VEVENT
BEGIN:VEVENT
DTSTART;VALUE=DATE:20260516
DTEND;VALUE=DATE:20260517
DTSTAMP:20260420T223728
CREATED:20260213T171015Z
LAST-MODIFIED:20260213T171015Z
UID:6704-1778889600-1778975999@ssvpcmb.org.br
SUMMARY:Encontro de CCA’s do CM
DESCRIPTION:Encontro de CCA’s do CM \nLocal: a definir
URL:https://ssvpcmb.org.br/event/encontro-de-ccas-do-cm/
CATEGORIES:CMB
END:VEVENT
BEGIN:VEVENT
DTSTART;VALUE=DATE:20260518
DTEND;VALUE=DATE:20260520
DTSTAMP:20260420T223728
CREATED:20260213T171054Z
LAST-MODIFIED:20260213T171054Z
UID:6706-1779062400-1779235199@ssvpcmb.org.br
SUMMARY:Adoração ao Santíssimo Sacramento - Conselho Central Brasília
DESCRIPTION:Adoração ao Santíssimo Sacramento – Conselho Central Brasília \ndas 12h às 14h
URL:https://ssvpcmb.org.br/event/adoracao-ao-santissimo-sacramento-conselho-central-brasilia/
LOCATION:Santuário SS Sacramento\, SGAS II SGAS 606 - Asa Sul\, Brasília\, Distrito Federal\, 70200-660\, Brazil
CATEGORIES:Adoração,CMB
END:VEVENT
BEGIN:VEVENT
DTSTART;VALUE=DATE:20260522
DTEND;VALUE=DATE:20260525
DTSTAMP:20260420T223728
CREATED:20260213T171136Z
LAST-MODIFIED:20260311T201108Z
UID:6708-1779408000-1779667199@ssvpcmb.org.br
SUMMARY:Encontro Nacional do Denor
DESCRIPTION:Encontro Nacional do Denor \nLocal: Santa Luzia/BH
URL:https://ssvpcmb.org.br/event/encontro-nacional-do-denor/
CATEGORIES:CNB
END:VEVENT
BEGIN:VEVENT
DTSTART;VALUE=DATE:20260523
DTEND;VALUE=DATE:20260524
DTSTAMP:20260420T223728
CREATED:20260213T171211Z
LAST-MODIFIED:20260213T171211Z
UID:6710-1779494400-1779580799@ssvpcmb.org.br
SUMMARY:Pentecostes Vicentino
DESCRIPTION:Pentecostes Vicentino \nParóquia Nossa Senhora da Medalha Milagrosa – Riacho Fundo II
URL:https://ssvpcmb.org.br/event/pentecostes-vicentino-2/
END:VEVENT
END:VCALENDAR