BEGIN:VCALENDAR
VERSION:2.0
PRODID:-//CM Brasília - ECPv6.15.16.1//NONSGML v1.0//EN
CALSCALE:GREGORIAN
METHOD:PUBLISH
X-ORIGINAL-URL:https://ssvpcmb.org.br
X-WR-CALDESC:Eventos para CM Brasília
REFRESH-INTERVAL;VALUE=DURATION:PT1H
X-Robots-Tag:noindex
X-PUBLISHED-TTL:PT1H
BEGIN:VTIMEZONE
TZID:America/Sao_Paulo
BEGIN:STANDARD
TZOFFSETFROM:-0300
TZOFFSETTO:-0300
TZNAME:-03
DTSTART:20250101T000000
END:STANDARD
END:VTIMEZONE
BEGIN:VEVENT
DTSTART;TZID=America/Sao_Paulo:20261120T170000
DTEND;TZID=America/Sao_Paulo:20261122T170000
DTSTAMP:20260421T233338
CREATED:20260213T173103Z
LAST-MODIFIED:20260213T173103Z
UID:6771-1795194000-1795366800@ssvpcmb.org.br
SUMMARY:Encontro da Região V
DESCRIPTION:Local: a definir
URL:https://ssvpcmb.org.br/event/encontro-da-regiao-v/
CATEGORIES:CNB
END:VEVENT
BEGIN:VEVENT
DTSTART;VALUE=DATE:20261122
DTEND;VALUE=DATE:20261123
DTSTAMP:20260421T233338
CREATED:20260213T173132Z
LAST-MODIFIED:20260213T173132Z
UID:6773-1795305600-1795391999@ssvpcmb.org.br
SUMMARY:Ação Social da Juventude Vicentina e Dep. Missionário
DESCRIPTION:
URL:https://ssvpcmb.org.br/event/acao-social-da-juventude-vicentina-e-dep-missionario/
CATEGORIES:CMB
END:VEVENT
BEGIN:VEVENT
DTSTART;VALUE=DATE:20261127
DTEND;VALUE=DATE:20261128
DTSTAMP:20260421T233338
CREATED:20260213T173154Z
LAST-MODIFIED:20260213T173154Z
UID:6775-1795737600-1795823999@ssvpcmb.org.br
SUMMARY:Dia de Nossa Senhora da Graças
DESCRIPTION:
URL:https://ssvpcmb.org.br/event/dia-de-nossa-senhora-da-gracas-2/
CATEGORIES:Litúrgico
END:VEVENT
BEGIN:VEVENT
DTSTART;VALUE=DATE:20261128
DTEND;VALUE=DATE:20261129
DTSTAMP:20260421T233338
CREATED:20260213T173216Z
LAST-MODIFIED:20260213T173216Z
UID:6777-1795824000-1795910399@ssvpcmb.org.br
SUMMARY:Dia Santa Catarina de Labouré
DESCRIPTION:
URL:https://ssvpcmb.org.br/event/dia-santa-catarina-de-laboure-2/
CATEGORIES:Litúrgico
END:VEVENT
BEGIN:VEVENT
DTSTART;VALUE=DATE:20261205
DTEND;VALUE=DATE:20261206
DTSTAMP:20260421T233338
CREATED:20260213T173300Z
LAST-MODIFIED:20260213T173300Z
UID:6779-1796428800-1796515199@ssvpcmb.org.br
SUMMARY:Reunião do Conselho Nacional do Brasil
DESCRIPTION:
URL:https://ssvpcmb.org.br/event/reuniao-do-conselho-nacional-do-brasil-10/
CATEGORIES:CNB
END:VEVENT
BEGIN:VEVENT
DTSTART;VALUE=DATE:20261208
DTEND;VALUE=DATE:20261209
DTSTAMP:20260421T233338
CREATED:20260213T173418Z
LAST-MODIFIED:20260213T173418Z
UID:6781-1796688000-1796774399@ssvpcmb.org.br
SUMMARY:Dia de Imaculada Conceição de Maria
DESCRIPTION:
URL:https://ssvpcmb.org.br/event/dia-de-imaculada-conceicao-de-maria-2/
CATEGORIES:Litúrgico
END:VEVENT
BEGIN:VEVENT
DTSTART;VALUE=DATE:20261218
DTEND;VALUE=DATE:20261220
DTSTAMP:20260421T233338
CREATED:20260213T173604Z
LAST-MODIFIED:20260213T173604Z
UID:6785-1797552000-1797724799@ssvpcmb.org.br
SUMMARY:Adoração ao Santíssimo Sacramento - Conselho Central de Brazlândia
DESCRIPTION:12h às 14h
URL:https://ssvpcmb.org.br/event/adoracao-ao-santissimo-sacramento-conselho-central-de-brazlandia-3/
CATEGORIES:Adoração
END:VEVENT
BEGIN:VEVENT
DTSTART;VALUE=DATE:20261225
DTEND;VALUE=DATE:20261226
DTSTAMP:20260421T233338
CREATED:20260213T173705Z
LAST-MODIFIED:20260213T173705Z
UID:6787-1798156800-1798243199@ssvpcmb.org.br
SUMMARY:Festa do Nascimento de Jesus - Natal
DESCRIPTION:
URL:https://ssvpcmb.org.br/event/festa-do-nascimento-de-jesus-natal-2/
CATEGORIES:Litúrgico
END:VEVENT
END:VCALENDAR