BEGIN:VCALENDAR
VERSION:2.0
PRODID:-//CM Brasília - ECPv6.15.16.1//NONSGML v1.0//EN
CALSCALE:GREGORIAN
METHOD:PUBLISH
X-WR-CALNAME:CM Brasília
X-ORIGINAL-URL:https://ssvpcmb.org.br
X-WR-CALDESC:Eventos para CM Brasília
REFRESH-INTERVAL;VALUE=DURATION:PT1H
X-Robots-Tag:noindex
X-PUBLISHED-TTL:PT1H
BEGIN:VTIMEZONE
TZID:America/Sao_Paulo
BEGIN:STANDARD
TZOFFSETFROM:-0300
TZOFFSETTO:-0300
TZNAME:-03
DTSTART:20250101T000000
END:STANDARD
END:VTIMEZONE
BEGIN:VEVENT
DTSTART;VALUE=DATE:20260821
DTEND;VALUE=DATE:20260824
DTSTAMP:20260421T022543
CREATED:20260213T172116Z
LAST-MODIFIED:20260213T172116Z
UID:6739-1787270400-1787529599@ssvpcmb.org.br
SUMMARY:Encontro Nacional dos Coordendores de CCA’s
DESCRIPTION:Local: a definir
URL:https://ssvpcmb.org.br/event/encontro-nacional-dos-coordendores-de-ccas/
LOCATION:Distrito Federal
CATEGORIES:CNB
END:VEVENT
BEGIN:VEVENT
DTSTART;VALUE=DATE:20260905
DTEND;VALUE=DATE:20260906
DTSTAMP:20260421T022543
CREATED:20260213T172209Z
LAST-MODIFIED:20260213T172209Z
UID:6743-1788566400-1788652799@ssvpcmb.org.br
SUMMARY:Reunião do Conselho Nacional do Brasil
DESCRIPTION:Sede do CNB
URL:https://ssvpcmb.org.br/event/reuniao-do-conselho-nacional-do-brasil-9/
LOCATION:Distrito Federal
CATEGORIES:CNB
END:VEVENT
BEGIN:VEVENT
DTSTART;VALUE=DATE:20260905
DTEND;VALUE=DATE:20260907
DTSTAMP:20260421T022543
CREATED:20260213T172245Z
LAST-MODIFIED:20260213T172245Z
UID:6745-1788566400-1788739199@ssvpcmb.org.br
SUMMARY:Romaria das Juventudes da Familia Vicentina
DESCRIPTION:Local: Caraça-MG
URL:https://ssvpcmb.org.br/event/romaria-das-juventudes-da-familia-vicentina/
LOCATION:Distrito Federal
CATEGORIES:CNB
END:VEVENT
BEGIN:VEVENT
DTSTART;VALUE=DATE:20261016
DTEND;VALUE=DATE:20261019
DTSTAMP:20260421T022543
CREATED:20260213T172728Z
LAST-MODIFIED:20260213T172728Z
UID:6759-1792108800-1792367999@ssvpcmb.org.br
SUMMARY:Encontro Nacional do Departamento Missionário
DESCRIPTION:Local: a definir
URL:https://ssvpcmb.org.br/event/encontro-nacional-do-departamento-missionario/
LOCATION:Distrito Federal
CATEGORIES:CNB
END:VEVENT
BEGIN:VEVENT
DTSTART;VALUE=DATE:20261107
DTEND;VALUE=DATE:20261108
DTSTAMP:20260421T022543
CREATED:20260213T172941Z
LAST-MODIFIED:20260213T172941Z
UID:6767-1794009600-1794095999@ssvpcmb.org.br
SUMMARY:Reunião Região V
DESCRIPTION:Local: a definir
URL:https://ssvpcmb.org.br/event/reuniao-regiao-v-2/
LOCATION:Distrito Federal
CATEGORIES:CNB
END:VEVENT
BEGIN:VEVENT
DTSTART;TZID=America/Sao_Paulo:20261120T170000
DTEND;TZID=America/Sao_Paulo:20261122T170000
DTSTAMP:20260421T022543
CREATED:20260213T173103Z
LAST-MODIFIED:20260213T173103Z
UID:6771-1795194000-1795366800@ssvpcmb.org.br
SUMMARY:Encontro da Região V
DESCRIPTION:Local: a definir
URL:https://ssvpcmb.org.br/event/encontro-da-regiao-v/
LOCATION:Distrito Federal
CATEGORIES:CNB
END:VEVENT
BEGIN:VEVENT
DTSTART;VALUE=DATE:20261205
DTEND;VALUE=DATE:20261206
DTSTAMP:20260421T022543
CREATED:20260213T173300Z
LAST-MODIFIED:20260213T173300Z
UID:6779-1796428800-1796515199@ssvpcmb.org.br
SUMMARY:Reunião do Conselho Nacional do Brasil
DESCRIPTION:
URL:https://ssvpcmb.org.br/event/reuniao-do-conselho-nacional-do-brasil-10/
LOCATION:Distrito Federal
CATEGORIES:CNB
END:VEVENT
END:VCALENDAR