BEGIN:VCALENDAR
VERSION:2.0
PRODID:-//CM Brasília - ECPv6.15.16.1//NONSGML v1.0//EN
CALSCALE:GREGORIAN
METHOD:PUBLISH
X-ORIGINAL-URL:https://ssvpcmb.org.br
X-WR-CALDESC:Eventos para CM Brasília
REFRESH-INTERVAL;VALUE=DURATION:PT1H
X-Robots-Tag:noindex
X-PUBLISHED-TTL:PT1H
BEGIN:VTIMEZONE
TZID:America/Sao_Paulo
BEGIN:STANDARD
TZOFFSETFROM:-0300
TZOFFSETTO:-0300
TZNAME:-03
DTSTART:20250101T000000
END:STANDARD
END:VTIMEZONE
BEGIN:VEVENT
DTSTART;TZID=America/Sao_Paulo:20260307T080000
DTEND;TZID=America/Sao_Paulo:20260307T170000
DTSTAMP:20260421T192017
CREATED:20260213T165433Z
LAST-MODIFIED:20260213T170147Z
UID:6674-1772870400-1772902800@ssvpcmb.org.br
SUMMARY:Reunião do Conselho Nacional do Brasil
DESCRIPTION:Sede do CNB
URL:https://ssvpcmb.org.br/event/reuniao-do-conselho-nacional-do-brasil-7/
CATEGORIES:CNB
END:VEVENT
END:VCALENDAR