BEGIN:VCALENDAR
VERSION:2.0
PRODID:-//CM Brasília - ECPv6.15.16.1//NONSGML v1.0//EN
CALSCALE:GREGORIAN
METHOD:PUBLISH
X-WR-CALNAME:CM Brasília
X-ORIGINAL-URL:https://ssvpcmb.org.br
X-WR-CALDESC:Eventos para CM Brasília
REFRESH-INTERVAL;VALUE=DURATION:PT1H
X-Robots-Tag:noindex
X-PUBLISHED-TTL:PT1H
BEGIN:VTIMEZONE
TZID:America/Sao_Paulo
BEGIN:STANDARD
TZOFFSETFROM:-0300
TZOFFSETTO:-0300
TZNAME:-03
DTSTART:20250101T000000
END:STANDARD
END:VTIMEZONE
BEGIN:VEVENT
DTSTART;VALUE=DATE:20260502
DTEND;VALUE=DATE:20260503
DTSTAMP:20260420T155447
CREATED:20260213T170941Z
LAST-MODIFIED:20260213T170941Z
UID:6702-1777680000-1777766399@ssvpcmb.org.br
SUMMARY:Reunião Região V
DESCRIPTION:Reunião Região V  \nLocal: a definir
URL:https://ssvpcmb.org.br/event/reuniao-regiao-v/
CATEGORIES:CNB
END:VEVENT
BEGIN:VEVENT
DTSTART;VALUE=DATE:20260522
DTEND;VALUE=DATE:20260525
DTSTAMP:20260420T155447
CREATED:20260213T171136Z
LAST-MODIFIED:20260311T201108Z
UID:6708-1779408000-1779667199@ssvpcmb.org.br
SUMMARY:Encontro Nacional do Denor
DESCRIPTION:Encontro Nacional do Denor \nLocal: Santa Luzia/BH
URL:https://ssvpcmb.org.br/event/encontro-nacional-do-denor/
CATEGORIES:CNB
END:VEVENT
END:VCALENDAR