BEGIN:VCALENDAR
VERSION:2.0
PRODID:-//CM Brasília - ECPv6.15.16.1//NONSGML v1.0//EN
CALSCALE:GREGORIAN
METHOD:PUBLISH
X-ORIGINAL-URL:https://ssvpcmb.org.br
X-WR-CALDESC:Eventos para CM Brasília
REFRESH-INTERVAL;VALUE=DURATION:PT1H
X-Robots-Tag:noindex
X-PUBLISHED-TTL:PT1H
BEGIN:VTIMEZONE
TZID:America/Sao_Paulo
BEGIN:STANDARD
TZOFFSETFROM:-0300
TZOFFSETTO:-0300
TZNAME:-03
DTSTART:20250101T000000
END:STANDARD
END:VTIMEZONE
BEGIN:VEVENT
DTSTART;VALUE=DATE:20260814
DTEND;VALUE=DATE:20260815
DTSTAMP:20260421T173718
CREATED:20260213T171920Z
LAST-MODIFIED:20260213T171920Z
UID:6733-1786665600-1786751999@ssvpcmb.org.br
SUMMARY:Dia Internacional das Consócias
DESCRIPTION:Dia Internacional das Consócias
URL:https://ssvpcmb.org.br/event/dia-internacional-das-consocias-2/
END:VEVENT
END:VCALENDAR