BEGIN:VCALENDAR
VERSION:2.0
PRODID:-//CM Brasília - ECPv6.15.16.1//NONSGML v1.0//EN
CALSCALE:GREGORIAN
METHOD:PUBLISH
X-WR-CALNAME:CM Brasília
X-ORIGINAL-URL:https://ssvpcmb.org.br
X-WR-CALDESC:Eventos para CM Brasília
REFRESH-INTERVAL;VALUE=DURATION:PT1H
X-Robots-Tag:noindex
X-PUBLISHED-TTL:PT1H
BEGIN:VTIMEZONE
TZID:Europe/Moscow
BEGIN:STANDARD
TZOFFSETFROM:+0300
TZOFFSETTO:+0300
TZNAME:MSK
DTSTART:20240101T000000
END:STANDARD
END:VTIMEZONE
BEGIN:VEVENT
DTSTART;TZID=Europe/Moscow:20251218T120000
DTEND;TZID=Europe/Moscow:20251219T140000
DTSTAMP:20260421T180429
CREATED:20250217T173053Z
LAST-MODIFIED:20250217T173058Z
UID:2956-1766059200-1766152800@ssvpcmb.org.br
SUMMARY:Adoração ao SS Sacramento - CC Divino Espirito Santo da Asa Norte
DESCRIPTION:Resp. Conselho Central Divino Espirito Santo da Asa Norte\n12h às 14hs – 18/11\n12h às 14h – 19/11
URL:https://ssvpcmb.org.br/event/adoracao-ao-ss-sacramento-cc-divino-espirito-santo-da-asa-norte-3/
LOCATION:Santuário SS Sacramento\, SGAS II SGAS 606 - Asa Sul\, Brasília\, Distrito Federal\, 70200-660\, Brazil
CATEGORIES:Adoração
END:VEVENT
END:VCALENDAR